Workbook

Sheet Premisas PE (11 min)
B2: ENTIDAD | C2: GUERRERO
B4: FASE | D4: PROCESO ELECTORAL LOCAL 2026-2027 | I4: Validaciones
D5: DIAS | E5: MINUTOS | F5: PROMOCIONALES DIARIOS | G5: PROMOCIONALES PERIODO | I5: 0.3 | J5: =G6*0.3 -> 46.2 | K5: =J5/G8 -> 5.1333333
B6: 1 | D6: 7 | E6: 11 | F6: =E6*2 -> 22 | G6: =D6*F6 -> 154 | I6: 0.7 | J6: =G6*0.7 -> 107.8 | K6: =TRUNC(K5) -> 5
J7: =SUM(J5:J6) -> 154 | K7: =K6*G8 -> 45
B8: PORCENTAJE MÍNIMO | D8: 3 | F8: Núm. de PP: | G8: 9 | J8: =G6=J7 -> TRUE | K8: Sobrantes del 30%
J9: =K7='Cálculo 70-30 PE (11 min)'!B13 -> TRUE | K9: =J5-K7 -> 1.2
I10: TABLA DE RESULTADOS DE LA VOTACIÓN LOCAL EMITIDA DIPUTACIONES DE MAYORÍA RELATIVA (LOCAL 26-27)
B11: PARTIDOS | C11: PORCENTAJE DE VOTACIÓN | D11: PORCENTAJE CORRESPONDIENTE AL 70% | E11: PROMOCIONALES PRECAMPAÑA | I11: PARTICIPANTES | J11: VOTACION | K11: PORCENTAJE
B12: PAN | C12: =K12 -> 4.3291636 | D12: =C12 -> 4.3291636 | E12: ='Cálculo 70-30 PE (11 min)'!H4 -> 9 | I12: PAN | J12: 57408 | K12: =J12*100/$J$19 -> 4.3291636
B13: PRI | C13: =K13 -> 17.98464 | D13: =C13 -> 17.98464 | E13: ='Cálculo 70-30 PE (11 min)'!H5 -> 24 | I13: PRI | J13: 238490 | K13: =J13*100/$J$19 -> 17.98464
B14: PT | C14: =K14 -> 7.3349491 | D14: =C14 -> 7.3349491 | E14: ='Cálculo 70-30 PE (11 min)'!H6 -> 12 | I14: PT | J14: 97267 | K14: =J14*100/$J$19 -> 7.3349491
B15: PVEM | C15: =K15 -> 9.916777 | D15: =C15 -> 9.916777 | E15: ='Cálculo 70-30 PE (11 min)'!H7 -> 15 | I15: PVEM | J15: 131504 | K15: =J15*100/$J$19 -> 9.916777
B16: MC | C16: =K16 -> 8.4468763 | D16: =C16 -> 8.4468763 | E16: ='Cálculo 70-30 PE (11 min)'!H8 -> 14 | I16: MC | J16: 112012 | K16: =J16*100/$J$19 -> 8.4468763
B17: MORENA | C17: =K17 -> 42.798754 | D17: =C17 -> 42.798754 | E17: ='Cálculo 70-30 PE (11 min)'!H9 -> 51 | I17: MORENA | J17: 567544 | K17: =J17*100/$J$19 -> 42.798754
B18: PRD | C18: =K18 -> 9.1888399 | D18: =C18 -> 9.1888399 | E18: ='Cálculo 70-30 PE (11 min)'!H10 -> 14 | I18: PRD | J18: 121851 | K18: =J18*100/$J$19 -> 9.1888399
B19: PAZ | C19: =K20 -> 0 | D19: =L20 -> 0 | E19: ='Cálculo 70-30 PE (11 min)'!H11 -> 5 | I19: VVE DIPUTACIONES MAYORÍA RELATIVA | J19: =SUM(J12:J18) -> 1326076 | K19: =SUM(K12:K18) -> 100
B20: SOMOS | C20: =K20 -> 0 | D20: =L20 -> 0 | E20: ='Cálculo 70-30 PE (11 min)'!H12 -> 5
B21: TOTAL | C21: =SUM(C12:C20) -> 100 | D21: =SUM(D12:D20) -> 100 | E21: =SUM(E12:E20) -> 149
B23: Promocionales sobrantes para el INE: | E23: =G6-E21 -> 5

Sheet Cálculo 70-30 PE (11 min)
A1: =CONCATENATE("CÁLCULO DE DISTRIBUCIÓN DE LOS MENSAJES DE PRECAMPAÑA PARA EL ",'Premisas PE (11 min)'!D4,) -> CÁLCULO DE DISTRIBUCIÓN DE LOS MENSAJES DE PRECAMPAÑA PARA EL PROCESO ELECTORAL LOCAL 2026-2027
A2: Partido político | B2: =CONCATENATE("DURACIÓN: ",'Premisas PE (11 min)'!D6," DÍAS TOTAL DE PROMOCIONALES DE 30 SEGUNDOS EN CADA ESTACIÓN DE RADIO O CANAL DE TELEVISIÓN: ", ('Premisas PE (11 min)'!G6), " PROMOCIONALES") -> DURACIÓN: 7 DÍAS TOTAL DE PROMOCIONALES DE 30 SEGUNDOS EN CADA ESTACIÓN DE RADIO O CANAL DE TELEVISIÓN: 154 PROMOCIONALES | G2: Promocionales que corresponden a cada partido político (A + C) | H2: Promocionales aplicando la cláusula de maximización (Art. 15, numeral 12 del RRTME)
B3: =CONCATENATE(('Premisas PE (11 min)'!G6)*0.3," promocionales (30%) se distribuyen de manera igualitaria entre el número de partidos contendientes (A)") -> 46.2 promocionales (30%) se distribuyen de manera igualitaria entre el número de partidos contendientes (A) | C3: Fracciones de promocionales sobrantes del 30% igualitario | D3: Porcentaje correspondiente al 70% (resultados de la última Elección de Diputaciones) | E3: =CONCATENATE(('Premisas PE (11 min)'!G6)*0.7," promocionales (70% Distribución Proporcional) % Fuerza Electoral de los partidos políticos (C) ") -> 107.8 promocionales (70% Distribución Proporcional) % Fuerza Electoral de los partidos políticos (C) | F3: Fracciones de promocionales sobrantes del 70% proporcional
A4: Partido Acción Nacional | B4: =TRUNC(TRUNC(('Premisas PE (11 min)'!$G$6)*0.3)/COUNTA($A$4:$A$12)) -> 5 | C4: =(('Premisas PE (11 min)'!$G$6)*0.3)/COUNTA($A$4:$A$12) - TRUNC(TRUNC(('Premisas PE (11 min)'!$G$6)*0.3)/COUNTA($A$4:$A$12)) -> 0.13333333 | D4: ='Premisas PE (11 min)'!D12 -> 4.3291636 | E4: =TRUNC((D4*(('Premisas PE (11 min)'!$G$6)*0.7))/100,0) -> 4 | F4: =(((D4*(('Premisas PE (11 min)'!$G$6)*0.7))/100) - TRUNC((D4*(('Premisas PE (11 min)'!$G$6)*0.7))/100)) -> 0.6668384 | G4: =SUM(B4,E4) -> 9 | H4: =G4 -> 9
A5: Partido Revolucionario Institucional | B5: =TRUNC(TRUNC(('Premisas PE (11 min)'!$G$6)*0.3)/COUNTA($A$4:$A$12)) -> 5 | C5: =(('Premisas PE (11 min)'!$G$6)*0.3)/COUNTA($A$4:$A$12) - TRUNC(TRUNC(('Premisas PE (11 min)'!$G$6)*0.3)/COUNTA($A$4:$A$12)) -> 0.13333333 | D5: ='Premisas PE (11 min)'!D13 -> 17.98464 | E5: =TRUNC((D5*(('Premisas PE (11 min)'!$G$6)*0.7))/100,0) -> 19 | F5: =(((D5*(('Premisas PE (11 min)'!$G$6)*0.7))/100) - TRUNC((D5*(('Premisas PE (11 min)'!$G$6)*0.7))/100)) -> 0.38744235 | G5: =SUM(B5,E5) -> 24 | H5: =G5 -> 24
A6: Partido del Trabajo | B6: =TRUNC(TRUNC(('Premisas PE (11 min)'!$G$6)*0.3)/COUNTA($A$4:$A$12)) -> 5 | C6: =(('Premisas PE (11 min)'!$G$6)*0.3)/COUNTA($A$4:$A$12) - TRUNC(TRUNC(('Premisas PE (11 min)'!$G$6)*0.3)/COUNTA($A$4:$A$12)) -> 0.13333333 | D6: ='Premisas PE (11 min)'!D14 -> 7.3349491 | E6: =TRUNC((D6*(('Premisas PE (11 min)'!$G$6)*0.7))/100,0) -> 7 | F6: =(((D6*(('Premisas PE (11 min)'!$G$6)*0.7))/100) - TRUNC((D6*(('Premisas PE (11 min)'!$G$6)*0.7))/100)) -> 0.90707516 | G6: =SUM(B6,E6) -> 12 | H6: =G6 -> 12
A7: Partido Verde Ecologista de México | B7: =TRUNC(TRUNC(('Premisas PE (11 min)'!$G$6)*0.3)/COUNTA($A$4:$A$12)) -> 5 | C7: =(('Premisas PE (11 min)'!$G$6)*0.3)/COUNTA($A$4:$A$12) - TRUNC(TRUNC(('Premisas PE (11 min)'!$G$6)*0.3)/COUNTA($A$4:$A$12)) -> 0.13333333 | D7: ='Premisas PE (11 min)'!D15 -> 9.916777 | E7: =TRUNC((D7*(('Premisas PE (11 min)'!$G$6)*0.7))/100,0) -> 10 | F7: =(((D7*(('Premisas PE (11 min)'!$G$6)*0.7))/100) - TRUNC((D7*(('Premisas PE (11 min)'!$G$6)*0.7))/100)) -> 0.69028562 | G7: =SUM(B7,E7) -> 15 | H7: =G7 -> 15
A8: Movimiento Ciudadano | B8: =TRUNC(TRUNC(('Premisas PE (11 min)'!$G$6)*0.3)/COUNTA($A$4:$A$12)) -> 5 | C8: =(('Premisas PE (11 min)'!$G$6)*0.3)/COUNTA($A$4:$A$12) - TRUNC(TRUNC(('Premisas PE (11 min)'!$G$6)*0.3)/COUNTA($A$4:$A$12)) -> 0.13333333 | D8: ='Premisas PE (11 min)'!D16 -> 8.4468763 | E8: =TRUNC((D8*(('Premisas PE (11 min)'!$G$6)*0.7))/100,0) -> 9 | F8: =(((D8*(('Premisas PE (11 min)'!$G$6)*0.7))/100) - TRUNC((D8*(('Premisas PE (11 min)'!$G$6)*0.7))/100)) -> 0.1057327 | G8: =SUM(B8,E8) -> 14 | H8: =G8 -> 14
A9: morena | B9: =TRUNC(TRUNC(('Premisas PE (11 min)'!$G$6)*0.3)/COUNTA($A$4:$A$12)) -> 5 | C9: =(('Premisas PE (11 min)'!$G$6)*0.3)/COUNTA($A$4:$A$12) - TRUNC(TRUNC(('Premisas PE (11 min)'!$G$6)*0.3)/COUNTA($A$4:$A$12)) -> 0.13333333 | D9: ='Premisas PE (11 min)'!D17 -> 42.798754 | E9: =TRUNC((D9*(('Premisas PE (11 min)'!$G$6)*0.7))/100,0) -> 46 | F9: =(((D9*(('Premisas PE (11 min)'!$G$6)*0.7))/100) - TRUNC((D9*(('Premisas PE (11 min)'!$G$6)*0.7))/100)) -> 0.1370564 | G9: =SUM(B9,E9) -> 51 | H9: =G9 -> 51
A10: Partido de la Revolución Democrática Guerrero | B10: =TRUNC(TRUNC(('Premisas PE (11 min)'!$G$6)*0.3)/COUNTA($A$4:$A$12)) -> 5 | C10: =(('Premisas PE (11 min)'!$G$6)*0.3)/COUNTA($A$4:$A$12) - TRUNC(TRUNC(('Premisas PE (11 min)'!$G$6)*0.3)/COUNTA($A$4:$A$12)) -> 0.13333333 | D10: ='Premisas PE (11 min)'!D18 -> 9.1888399 | E10: =TRUNC((D10*(('Premisas PE (11 min)'!$G$6)*0.7))/100,0) -> 9 | F10: =(((D10*(('Premisas PE (11 min)'!$G$6)*0.7))/100) - TRUNC((D10*(('Premisas PE (11 min)'!$G$6)*0.7))/100)) -> 0.90556936 | G10: =SUM(B10,E10) -> 14 | H10: =G10 -> 14
A11: Partido Paz | B11: =TRUNC(TRUNC(('Premisas PE (11 min)'!$G$6)*0.3)/COUNTA($A$4:$A$12)) -> 5 | C11: =(('Premisas PE (11 min)'!$G$6)*0.3)/COUNTA($A$4:$A$12) - TRUNC(TRUNC(('Premisas PE (11 min)'!$G$6)*0.3)/COUNTA($A$4:$A$12)) -> 0.13333333 | D11: 0 | E11: =TRUNC((D11*(('Premisas PE (11 min)'!$G$6)*0.7))/100,0) -> 0 | F11: =(((D11*(('Premisas PE (11 min)'!$G$6)*0.7))/100) - TRUNC((D11*(('Premisas PE (11 min)'!$G$6)*0.7))/100)) -> 0 | G11: =SUM(B11,E11) -> 5 | H11: =G11 -> 5
A12: Somos | B12: =TRUNC(TRUNC(('Premisas PE (11 min)'!$G$6)*0.3)/COUNTA($A$4:$A$12)) -> 5 | C12: =(('Premisas PE (11 min)'!$G$6)*0.3)/COUNTA($A$4:$A$12) - TRUNC(TRUNC(('Premisas PE (11 min)'!$G$6)*0.3)/COUNTA($A$4:$A$12)) -> 0.13333333 | D12: 0 | E12: =TRUNC((D12*(('Premisas PE (11 min)'!$G$6)*0.7))/100,0) -> 0 | F12: =(((D12*(('Premisas PE (11 min)'!$G$6)*0.7))/100) - TRUNC((D12*(('Premisas PE (11 min)'!$G$6)*0.7))/100)) -> 0 | G12: =SUM(B12,E12) -> 5 | H12: =G12 -> 5
A13: TOTAL | B13: =SUM(B4:B12) -> 45 | C13: =SUM(C4:C12) -> 1.2 | D13: =SUM(D4:D12) -> 100 | E13: =SUM(E4:E12) -> 104 | F13: =SUM(F4:F12) -> 3.8 | G13: =SUM(G4:G12) -> 149 | H13: =SUM(H4:H12) -> 149
A16: Promocionales sobrantes para el INE: | C16: ='Premisas PE (11 min)'!E23 -> 5

Sheet Modelo Precampaña 7 días
A1: PRECAMPAÑA
A4: Día/Posición | B4: 4 | C4: 5 | D4: 6 | E4: 7 | F4: 8 | G4: 9 | H4: 10
B5: ene | C5: ene | D5: ene | E5: ene | F5: ene | G5: ene | H5: ene
B6: lun | C6: mar | D6: mié | E6: jue | F6: vie | G6: sáb | H6: dom
A7: 1 | B7: PRI-L | C7: PVEM-L | D7: MORENA-L | E7: PRD-L | F7: MORENA-L | G7: MC-L | H7: PRI-L
A8: 2 | B8: MORENA-L | C8: PRI-L | D8: PVEM-L | E8: MORENA-L | F8: PRD-L | G8: MORENA-L | H8: MC-L
A9: 3 | B9: SOMOS-L | C9: MORENA-L | D9: PRI-L | E9: PVEM-L | F9: MORENA-L | G9: PT-L | H9: MORENA-L
A10: 4 | B10: PVEM-L | C10: SOMOS-L | D10: MORENA-L | E10: PRI-L | F10: PVEM-L | G10: MORENA-L | H10: PT-L
A11: 5 | B11: MC-L | C11: PVEM-L | D11: PRD-L | E11: MORENA-L | F11: PRI-L | G11: PVEM-L | H11: MORENA-L
A12: 6 | B12: PAZ-L | C12: MC-L | D12: PVEM-L | E12: SOMOS-L | F12: MORENA-L | G12: PRI-L | H12: PVEM-L
A13: 7 | B13: PAN-L | C13: PAZ-L | D13: MC-L | E13: PVEM-L | F13: MC-L | G13: MORENA-L | H13: PRI-L
A14: 8 | B14: PT-L | C14: PAN-L | D14: MORENA-L | E14: MC-L | F14: PVEM-L | G14: SOMOS-L | H14: MORENA-L
A15: 9 | B15: PRD-L | C15: PT-L | D15: PAN-L | E15: PAZ-L | F15: MC-L | G15: PVEM-L | H15: SOMOS-L
A16: 10 | B16: MORENA-L | C16: PRD-L | D16: PT-L | E16: PAN-L | F16: PAZ-L | G16: MC-L | H16: PVEM-L
A17: 11 | B17: PRI-L | C17: MORENA-L | D17: PRD-L | E17: PT-L | F17: PAN-L | G17: MORENA-L | H17: MC-L
A18: 12 | B18: MORENA-L | C18: PRI-L | D18: MORENA-L | E18: PRD-L | F18: PT-L | G18: PAN-L | H18: PAZ-L
... A28: 22 | B28: PVEM-L | C28: MORENA-L | D28: PT-L | E28: MORENA-L | F28: PRI-L | G28: PRD-L | H28: MORENA-L
A31: Partido | B31: Promocionales | C31: Conteo | D31: Diferencia | G31: SORTEO
A32: PAN-L | B32: ='Cálculo 70-30 PE (11 min)'!H4 -> 9 | C32: =COUNTIF($B$7:$H$28,A32) -> 9 | D32: =C32-B32 -> 0 | F32: 1 | G32: PRI-L
A33: PRI-L | B33: ='Cálculo 70-30 PE (11 min)'!H5 -> 24 | C33: =COUNTIF($B$7:$H$28,A33) -> 24 | D33: =C33-B33 -> 0 | F33: 2 | G33: MORENA-L
A34: PT-L | B34: ='Cálculo 70-30 PE (11 min)'!H6 -> 12 | C34: =COUNTIF($B$7:$H$28,A34) -> 12 | D34: =C34-B34 -> 0 | F34: 3 | G34: SOMOS-L
A35: PVEM-L | B35: ='Cálculo 70-30 PE (11 min)'!H7 -> 15 | C35: =COUNTIF($B$7:$H$28,A35) -> 15 | D35: =C35-B35 -> 0 | F35: 4 | G35: PVEM-L
A36: MC-L | B36: ='Cálculo 70-30 PE (11 min)'!H8 -> 14 | C36: =COUNTIF($B$7:$H$28,A36) -> 14 | D36: =C36-B36 -> 0 | F36: 5 | G36: MC-L
A37: MORENA-L | B37: ='Cálculo 70-30 PE (11 min)'!H9 -> 51 | C37: =COUNTIF($B$7:$H$28,A37) -> 51 | D37: =C37-B37 -> 0 | F37: 6 | G37: PAZ-L
A38: PRD-L | B38: ='Cálculo 70-30 PE (11 min)'!H10 -> 14 | C38: =COUNTIF($B$7:$H$28,A38) -> 14 | D38: =C38-B38 -> 0 | F38: 7 | G38: PAN-L
A39: PAZ-L | B39: ='Cálculo 70-30 PE (11 min)'!H11 -> 5 | C39: =COUNTIF($B$7:$H$28,A39) -> 5 | D39: =C39-B39 -> 0 | F39: 8 | G39: PT-L
A40: SOMOS-L | B40: ='Cálculo 70-30 PE (11 min)'!H12 -> 5 | C40: =COUNTIF($B$7:$H$28,A40) -> 5 | D40: =C40-B40 -> 0 | F40: 9 | G40: PRD-L
A41: C.I.-L | B41: 0 | C41: =COUNTIF($B$7:$H$28,A41) -> 0 | D41: =C41-B41 -> 0 | F41: 10 | G41: C.I.-L
A42: INE | B42: 5 | C42: =COUNTIF($B$7:$H$28,A42) -> 5 | D42: =C42-B42 -> 0
A43: TOTAL | B43: =SUM(B32:B42) -> 154 | C43: =SUM(C32:C42) -> 154 | D43: =C43-B43 -> 0
