Workbook

Sheet Premisas PE (15 min)
B2: ENTIDAD | C2: GUERRERO
B4: FASE O ESCENARIO | D4: PROCESO ELECTORAL LOCAL 2026-2027 | I4: Validaciones
D5: DÍAS | E5: MINUTOS | F5: PROMOCIONALES DIARIOS | G5: PROMOCIONALES PERIODO | I5: 0.3 | J5: =G6*0.3 -> 810 | K5: =J5/G8 -> 90
B6: 3 | D6: 90 | E6: 15 | F6: =E6*2 -> 30 | G6: =D6*F6 -> 2700 | I6: 0.7 | J6: =G6*0.7 -> 1890 | K6: =TRUNC(K5) -> 90
J7: =SUM(J5:J6) -> 2700 | K7: =K6*G8 -> 810
B8: PORCENTAJE MÍNIMO | D8: 3 | F8: Núm. de PP: | G8: 9 | J8: =G6=J7 -> TRUE | K8: Sobrantes del 30%
J9: =K7='Cálculo 70-30 (15 min)'!B14 -> TRUE | K9: =J5-K7 -> 0
I10: TABLA DE RESULTADOS DE LA VOTACIÓN LOCAL EMITIDA DIPUTACIONES DE MAYORÍA RELATIVA (LOCAL 26-27)
B11: PARTIDOS | C11: PORCENTAJE DE VOTACIÓN | D11: PORCENTAJE CORRESPONDIENTE AL 70% | E11: PROMOCIONALES PRECAMPAÑA | I11: PARTICIPANTES | J11: VOTACION | K11: PORCENTAJE
B12: PAN | C12: =K12 -> 4.3291636 | D12: =C12 -> 4.3291636 | E12: ='Cálculo 70-30 (15 min)'!H4 -> 171 | I12: PAN | J12: 57408 | K12: =J12*100/$J$19 -> 4.3291636
B13: PRI | C13: =K13 -> 17.98464 | D13: =C13 -> 17.98464 | E13: ='Cálculo 70-30 (15 min)'!H5 -> 429 | I13: PRI | J13: 238490 | K13: =J13*100/$J$19 -> 17.98464
B14: PT | C14: =K14 -> 7.3349491 | D14: =C14 -> 7.3349491 | E14: ='Cálculo 70-30 (15 min)'!H6 -> 228 | I14: PT | J14: 97267 | K14: =J14*100/$J$19 -> 7.3349491
B15: PVEM | C15: =K15 -> 9.916777 | D15: =C15 -> 9.916777 | E15: ='Cálculo 70-30 (15 min)'!H7 -> 277 | I15: PVEM | J15: 131504 | K15: =J15*100/$J$19 -> 9.916777
B16: MC | C16: =K16 -> 8.4468763 | D16: =C16 -> 8.4468763 | E16: ='Cálculo 70-30 (15 min)'!H8 -> 249 | I16: MC | J16: 112012 | K16: =J16*100/$J$19 -> 8.4468763
B17: MORENA | C17: =K17 -> 42.798754 | D17: =C17 -> 42.798754 | E17: ='Cálculo 70-30 (15 min)'!H9 -> 898 | I17: MORENA | J17: 567544 | K17: =J17*100/$J$19 -> 42.798754
B18: PRD | C18: =K18 -> 9.1888399 | D18: =C18 -> 9.1888399 | E18: ='Cálculo 70-30 (15 min)'!H10 -> 263 | I18: PRD | J18: 121851 | K18: =J18*100/$J$19 -> 9.1888399
B19: PAZ | C19: =K20 -> 0 | D19: =L20 -> 0 | E19: ='Cálculo 70-30 (15 min)'!H11 -> 90 | I19: VVE DIPUTACIONES MAYORÍA RELATIVA | J19: =SUM(J12:J18) -> 1326076 | K19: =SUM(K12:K18) -> 100
B20: SOMOS | C20: =K20 -> 0 | D20: =L20 -> 0 | E20: ='Cálculo 70-30 (15 min)'!H12 -> 90
B21: TOTAL | C21: =SUM(C12:C20) -> 100 | D21: =SUM(D12:D20) -> 100 | E21: =SUM(E12:E20) -> 2695
B23: Promocionales sobrantes para el INE: | E23: =G6-E21 -> 5

Sheet Cálculo 70-30 (15 min)
A1: =CONCATENATE("CÁLCULO DE DISTRIBUCIÓN DE LOS MENSAJES DE CAMPAÑA PARA EL ",'Premisas PE (15 min)'!D4," ",) -> CÁLCULO DE DISTRIBUCIÓN DE LOS MENSAJES DE CAMPAÑA PARA EL PROCESO ELECTORAL LOCAL 2026-2027
A2: Partido político | B2: =CONCATENATE("DURACIÓN: ",'Premisas PE (15 min)'!D6," DÍAS TOTAL DE PROMOCIONALES DE 30 SEGUNDOS EN CADA ESTACIÓN DE RADIO O CANAL DE TELEVISIÓN: ", ('Premisas PE (15 min)'!G6), " PROMOCIONALES") -> DURACIÓN: 90 DÍAS TOTAL DE PROMOCIONALES DE 30 SEGUNDOS EN CADA ESTACIÓN DE RADIO O CANAL DE TELEVISIÓN: 2700 PROMOCIONALES | G2: Promocionales que corresponden a cada partido político (A + C) | H2: Promocionales aplicando la cláusula de maximización (Art. 15, numeral 12 del RRTME)
B3: =CONCATENATE(('Premisas PE (15 min)'!G6)*0.3," promocionales (30%) se distribuyen de manera igualitaria entre el número de partidos contendientes (A)") -> 810 promocionales (30%) se distribuyen de manera igualitaria entre el número de partidos contendientes (A) | C3: Fracciones de promocionales sobrantes del 30% igualitario | D3: Porcentaje correspondiente al 70% (resultados de la última Elección de Diputaciones) | E3: =CONCATENATE(('Premisas PE (15 min)'!G6)*0.7," promocionales (70% Distribución Proporcional) % Fuerza Electoral de los partidos políticos (C) ") -> 1890 promocionales (70% Distribución Proporcional) % Fuerza Electoral de los partidos políticos (C) | F3: Fracciones de promocionales sobrantes del 70% proporcional
A4: Partido Acción Nacional | B4: =TRUNC(TRUNC(('Premisas PE (15 min)'!$G$6)*0.3)/COUNTA($A$4:$A$12)) -> 90 | C4: =TRUNC(('Premisas PE (15 min)'!$G$6)*0.3)/COUNTA($A$4:$A$12) - TRUNC(TRUNC(('Premisas PE (15 min)'!$G$6)*0.3)/COUNTA($A$4:$A$12)) -> 0 | D4: ='Premisas PE (15 min)'!D12 -> 4.3291636 | E4: =TRUNC((D4*TRUNC(('Premisas PE (15 min)'!$G$6)*0.7))/100,0) -> 81 | F4: =(((D4*TRUNC(('Premisas PE (15 min)'!$G$6)*0.7))/100) - TRUNC((D4*TRUNC(('Premisas PE (15 min)'!$G$6)*0.7))/100)) -> 0.82119275 | G4: =SUM(B4,E4) -> 171 | H4: =G4 -> 171
A5: Partido Revolucionario Institucional | B5: =TRUNC(TRUNC(('Premisas PE (15 min)'!$G$6)*0.3)/COUNTA($A$4:$A$12)) -> 90 | C5: =TRUNC(('Premisas PE (15 min)'!$G$6)*0.3)/COUNTA($A$4:$A$12) - TRUNC(TRUNC(('Premisas PE (15 min)'!$G$6)*0.3)/COUNTA($A$4:$A$12)) -> 0 | D5: ='Premisas PE (15 min)'!D13 -> 17.98464 | E5: =TRUNC((D5*TRUNC(('Premisas PE (15 min)'!$G$6)*0.7))/100,0) -> 339 | F5: =(((D5*TRUNC(('Premisas PE (15 min)'!$G$6)*0.7))/100) - TRUNC((D5*TRUNC(('Premisas PE (15 min)'!$G$6)*0.7))/100)) -> 0.90970352 | G5: =SUM(B5,E5) -> 429 | H5: =G5 -> 429
A6: Partido del Trabajo | B6: =TRUNC(TRUNC(('Premisas PE (15 min)'!$G$6)*0.3)/COUNTA($A$4:$A$12)) -> 90 | C6: =TRUNC(('Premisas PE (15 min)'!$G$6)*0.3)/COUNTA($A$4:$A$12) - TRUNC(TRUNC(('Premisas PE (15 min)'!$G$6)*0.3)/COUNTA($A$4:$A$12)) -> 0 | D6: ='Premisas PE (15 min)'!D14 -> 7.3349491 | E6: =TRUNC((D6*TRUNC(('Premisas PE (15 min)'!$G$6)*0.7))/100,0) -> 138 | F6: =(((D6*TRUNC(('Premisas PE (15 min)'!$G$6)*0.7))/100) - TRUNC((D6*TRUNC(('Premisas PE (15 min)'!$G$6)*0.7))/100)) -> 0.63053852 | G6: =SUM(B6,E6) -> 228 | H6: =G6 -> 228
A7: Partido Verde Ecologista de México | B7: =TRUNC(TRUNC(('Premisas PE (15 min)'!$G$6)*0.3)/COUNTA($A$4:$A$12)) -> 90 | C7: =TRUNC(('Premisas PE (15 min)'!$G$6)*0.3)/COUNTA($A$4:$A$12) - TRUNC(TRUNC(('Premisas PE (15 min)'!$G$6)*0.3)/COUNTA($A$4:$A$12)) -> 0 | D7: ='Premisas PE (15 min)'!D15 -> 9.916777 | E7: =TRUNC((D7*TRUNC(('Premisas PE (15 min)'!$G$6)*0.7))/100,0) -> 187 | F7: =(((D7*TRUNC(('Premisas PE (15 min)'!$G$6)*0.7))/100) - TRUNC((D7*TRUNC(('Premisas PE (15 min)'!$G$6)*0.7))/100)) -> 0.42708563 | G7: =SUM(B7,E7) -> 277 | H7: =G7 -> 277
A8: Movimiento Ciudadano | B8: =TRUNC(TRUNC(('Premisas PE (15 min)'!$G$6)*0.3)/COUNTA($A$4:$A$12)) -> 90 | C8: =TRUNC(('Premisas PE (15 min)'!$G$6)*0.3)/COUNTA($A$4:$A$12) - TRUNC(TRUNC(('Premisas PE (15 min)'!$G$6)*0.3)/COUNTA($A$4:$A$12)) -> 0 | D8: ='Premisas PE (15 min)'!D16 -> 8.4468763 | E8: =TRUNC((D8*TRUNC(('Premisas PE (15 min)'!$G$6)*0.7))/100,0) -> 159 | F8: =(((D8*TRUNC(('Premisas PE (15 min)'!$G$6)*0.7))/100) - TRUNC((D8*TRUNC(('Premisas PE (15 min)'!$G$6)*0.7))/100)) -> 0.64596298 | G8: =SUM(B8,E8) -> 249 | H8: =G8 -> 249
A9: morena | B9: =TRUNC(TRUNC(('Premisas PE (15 min)'!$G$6)*0.3)/COUNTA($A$4:$A$12)) -> 90 | C9: =TRUNC(('Premisas PE (15 min)'!$G$6)*0.3)/COUNTA($A$4:$A$12) - TRUNC(TRUNC(('Premisas PE (15 min)'!$G$6)*0.3)/COUNTA($A$4:$A$12)) -> 0 | D9: ='Premisas PE (15 min)'!D17 -> 42.798754 | E9: =TRUNC((D9*TRUNC(('Premisas PE (15 min)'!$G$6)*0.7))/100,0) -> 808 | F9: =(((D9*TRUNC(('Premisas PE (15 min)'!$G$6)*0.7))/100) - TRUNC((D9*TRUNC(('Premisas PE (15 min)'!$G$6)*0.7))/100)) -> 0.89644334 | G9: =SUM(B9,E9) -> 898 | H9: =G9 -> 898
A10: Partido de la Revolución Democrática Guerrero | B10: =TRUNC(TRUNC(('Premisas PE (15 min)'!$G$6)*0.3)/COUNTA($A$4:$A$12)) -> 90 | C10: =TRUNC(('Premisas PE (15 min)'!$G$6)*0.3)/COUNTA($A$4:$A$12) - TRUNC(TRUNC(('Premisas PE (15 min)'!$G$6)*0.3)/COUNTA($A$4:$A$12)) -> 0 | D10: ='Premisas PE (15 min)'!D18 -> 9.1888399 | E10: =TRUNC((D10*TRUNC(('Premisas PE (15 min)'!$G$6)*0.7))/100,0) -> 173 | F10: =(((D10*TRUNC(('Premisas PE (15 min)'!$G$6)*0.7))/100) - TRUNC((D10*TRUNC(('Premisas PE (15 min)'!$G$6)*0.7))/100)) -> 0.66907327 | G10: =SUM(B10,E10) -> 263 | H10: =G10 -> 263
A11: Partido Paz | B11: =TRUNC(TRUNC(('Premisas PE (15 min)'!$G$6)*0.3)/COUNTA($A$4:$A$12)) -> 90 | C11: =TRUNC(('Premisas PE (15 min)'!$G$6)*0.3)/COUNTA($A$4:$A$12) - TRUNC(TRUNC(('Premisas PE (15 min)'!$G$6)*0.3)/COUNTA($A$4:$A$12)) -> 0 | D11: ='Premisas PE (15 min)'!D19 -> 0 | E11: =TRUNC((D11*TRUNC(('Premisas PE (15 min)'!$G$6)*0.7))/100,0) -> 0 | F11: =(((D11*TRUNC(('Premisas PE (15 min)'!$G$6)*0.7))/100) - TRUNC((D11*TRUNC(('Premisas PE (15 min)'!$G$6)*0.7))/100)) -> 0 | G11: =SUM(B11,E11) -> 90 | H11: =G11 -> 90
A12: Somos | B12: =TRUNC(TRUNC(('Premisas PE (15 min)'!$G$6)*0.3)/COUNTA($A$4:$A$12)) -> 90 | C12: =TRUNC(('Premisas PE (15 min)'!$G$6)*0.3)/COUNTA($A$4:$A$12) - TRUNC(TRUNC(('Premisas PE (15 min)'!$G$6)*0.3)/COUNTA($A$4:$A$12)) -> 0 | D12: ='Premisas PE (15 min)'!D20 -> 0 | E12: =TRUNC((D12*TRUNC(('Premisas PE (15 min)'!$G$6)*0.7))/100,0) -> 0 | F12: =(((D12*TRUNC(('Premisas PE (15 min)'!$G$6)*0.7))/100) - TRUNC((D12*TRUNC(('Premisas PE (15 min)'!$G$6)*0.7))/100)) -> 0 | G12: =SUM(B12,E12) -> 90 | H12: =G12 -> 90
A13: Candidaturas independientes
A14: TOTAL | B14: =SUM(B4:B13) -> 810 | C14: =SUM(C4:C13) -> 0 | D14: =SUM(D4:D13) -> 100 | E14: =SUM(E4:E13) -> 1885 | F14: =SUM(F4:F13) -> 5 | G14: =SUM(G4:G13) -> 2695 | H14: =SUM(H4:H13) -> 2695
A17: Promocionales sobrantes para el INE: | C17: ='Premisas PE (15 min)'!E23 -> 5

Sheet Modelo Campaña 0CI 90 días
A1: CAMPAÑA 0 CI
A4: N° Promocional | B4: 5 | C4: 6 | D4: 7 | E4: 8 | F4: 9 | G4: 10 | H4: 11 | I4: 12 | J4: 13 | K4: 14 | L4: 15 | M4: 16 | N4: 17 | O4: 18 | P4: 19 | Q4: 20 | R4: 21 | S4: 22 | T4: 23 | U4: 24 | V4: 25 | W4: 26 | X4: 27 | Y4: 28 | Z4: 29 | AA4: 30 | AB4: 31 | AC4: 1 | AD4: 2 | AE4: 3 | AF4: 4 | AG4: 5 | AH4: 6 | AI4: 7 | AJ4: 8 | AK4: 9 | AL4: 10 | AM4: 11 | AN4: 12 | AO4: 13 | AP4: 14 | AQ4: 15 | AR4: 16 | AS4: 17 | AT4: 18 | AU4: 19 | AV4: 20 | AW4: 21 | AX4: 22 | AY4: 23 | AZ4: 24 | BA4: 25 | BB4: 26 | BC4: 27 | BD4: 28 | BE4: 29 | BF4: 30 | BG4: 1 | BH4: 2 | BI4: 3 | BJ4: 4 | BK4: 5 | BL4: 6 | BM4: 7 | BN4: 8 | BO4: 9 | BP4: 10 | BQ4: 11 | BR4: 12 | BS4: 13 | BT4: 14 | BU4: 15 | BV4: 16 | BW4: 17 | BX4: 18 | BY4: 19 | BZ4: 20 | CA4: 21 | CB4: 22 | CC4: 23 | CD4: 24 | CE4: 25 | CF4: 26 | CG4: 27 | CH4: 28 | CI4: 29 | CJ4: 30 | CK4: 31 | CL4: 1 | CM4: 2
B5: mar | C5: mar | D5: mar | E5: mar | F5: mar | G5: mar | H5: mar | I5: mar | J5: mar | K5: mar | L5: mar | M5: mar | N5: mar | O5: mar | P5: mar | Q5: mar | R5: mar | S5: mar | T5: mar | U5: mar | V5: mar | W5: mar | X5: mar | Y5: mar | Z5: mar | AA5: mar | AB5: mar | AC5: abr | AD5: abr | AE5: abr | AF5: abr | AG5: abr | AH5: abr | AI5: abr | AJ5: abr | AK5: abr | AL5: abr | AM5: abr | AN5: abr | AO5: abr | AP5: abr | AQ5: abr | AR5: abr | AS5: abr | AT5: abr | AU5: abr | AV5: abr | AW5: abr | AX5: abr | AY5: abr | AZ5: abr | BA5: abr | BB5: abr | BC5: abr | BD5: abr | BE5: abr | BF5: abr | BG5: may | BH5: may | BI5: may | BJ5: may | BK5: may | BL5: may | BM5: may | BN5: may | BO5: may | BP5: may | BQ5: may | BR5: may | BS5: may | BT5: may | BU5: may | BV5: may | BW5: may | BX5: may | BY5: may | BZ5: may | CA5: may | CB5: may | CC5: may | CD5: may | CE5: may | CF5: may | CG5: may | CH5: may | CI5: may | CJ5: may | CK5: may | CL5: jun | CM5: jun
B6: vie | C6: sáb | D6: dom | E6: lun | F6: mar | G6: mié | H6: jue | I6: vie | J6: sáb | K6: dom | L6: lun | M6: mar | N6: mié | O6: jue | P6: vie | Q6: sáb | R6: dom | S6: lun | T6: mar | U6: mié | V6: jue | W6: vie | X6: sáb | Y6: dom | Z6: lun | AA6: mar | AB6: mié | AC6: jue | AD6: vie | AE6: sáb | AF6: dom | AG6: lun | AH6: mar | AI6: mié | AJ6: jue | AK6: vie | AL6: sáb | AM6: dom | AN6: lun | AO6: mar | AP6: mié | AQ6: jue | AR6: vie | AS6: sáb | AT6: dom | AU6: lun | AV6: mar | AW6: mié | AX6: jue | AY6: vie | AZ6: sáb | BA6: dom | BB6: lun | BC6: mar | BD6: mié | BE6: jue | BF6: vie | BG6: sáb | BH6: dom | BI6: lun | BJ6: mar | BK6: mié | BL6: jue | BM6: vie | BN6: sáb | BO6: dom | BP6: lun | BQ6: mar | BR6: mié | BS6: jue | BT6: vie | BU6: sáb | BV6: dom | BW6: lun | BX6: mar | BY6: mié | BZ6: jue | CA6: vie | CB6: sáb | CC6: dom | CD6: lun | CE6: mar | CF6: mié | CG6: jue | CH6: vie | CI6: sáb | CJ6: dom | CK6: lun | CL6: mar | CM6: mié
A7: 1 | B7: PRI-L | C7: PT-L | D7: MORENA-L | E7: PRI-L | F7: MORENA-L | G7: PRD-L | H7: MORENA-L | I7: PVEM-L | J7: PRI-L | K7: MORENA-L | L7: PAN-L | M7: MORENA-L | N7: MC-L | O7: MORENA-L | P7: PRI-L | Q7: PT-L | R7: MORENA-L | S7: PRD-L | T7: MORENA-L | U7: PRI-L | V7: MORENA-L | W7: PVEM-L | X7: PRD-L | Y7: PT-L | Z7: PAN-L | AA7: PAZ-L | AB7: MC-L | AC7: PVEM-L | AD7: SOMOS-L | AE7: MORENA-L | AF7: PRI-L | AG7: PT-L | AH7: MORENA-L | AI7: PRI-L | AJ7: MORENA-L | AK7: PRD-L | AL7: MORENA-L | AM7: PVEM-L | AN7: MC-L | AO7: MORENA-L | AP7: PAN-L | AQ7: MORENA-L | AR7: MC-L | AS7: MORENA-L | AT7: PRI-L | AU7: MC-L | AV7: MORENA-L | AW7: PRD-L | AX7: MORENA-L | AY7: PRI-L | AZ7: MORENA-L | BA7: PVEM-L | BB7: PRD-L | BC7: PT-L | BD7: PAN-L | BE7: PAZ-L | BF7: MC-L | BG7: PVEM-L | BH7: SOMOS-L | BI7: MORENA-L | BJ7: PRI-L | BK7: PT-L | BL7: MORENA-L | BM7: PRI-L | BN7: MORENA-L | BO7: PRD-L | BP7: MORENA-L | BQ7: PVEM-L | BR7: PRI-L | BS7: MORENA-L | BT7: PAN-L | BU7: MORENA-L | BV7: MC-L | BW7: MORENA-L | BX7: PRI-L | BY7: PT-L | BZ7: MORENA-L | CA7: PRD-L | CB7: MORENA-L | CC7: PRI-L | CD7: MORENA-L | CE7: PVEM-L | CF7: PRD-L | CG7: PT-L | CH7: PAN-L | CI7: PAZ-L | CJ7: MC-L | CK7: PVEM-L | CL7: SOMOS-L | CM7: MORENA-L
A8: 2 | B8: MORENA-L | C8: PRI-L | D8: PT-L | E8: MORENA-L | F8: PRI-L | G8: MORENA-L | H8: PRD-L | I8: MORENA-L | J8: PVEM-L | K8: PRI-L | L8: MORENA-L | M8: PAN-L | N8: MORENA-L | O8: MC-L | P8: MORENA-L | Q8: PRI-L | R8: PT-L | S8: MORENA-L | T8: PVEM-L | U8: MORENA-L | V8: PRI-L | W8: MORENA-L | X8: PVEM-L | Y8: PRD-L | Z8: PT-L | AA8: PAN-L | AB8: PAZ-L | AC8: MC-L | AD8: PVEM-L | AE8: SOMOS-L | AF8: MORENA-L | AG8: PRI-L | AH8: PT-L | AI8: MORENA-L | AJ8: PRI-L | AK8: MORENA-L | AL8: PRD-L | AM8: MORENA-L | AN8: PVEM-L | AO8: PRI-L | AP8: MORENA-L | AQ8: PAN-L | AR8: MORENA-L | AS8: MC-L | AT8: MORENA-L | AU8: PRI-L | AV8: PT-L | AW8: MORENA-L | AX8: PRD-L | AY8: MORENA-L | AZ8: PRI-L | BA8: MORENA-L | BB8: PVEM-L | BC8: PRD-L | BD8: PT-L | BE8: MC-L | BF8: PAZ-L | BG8: MC-L | BH8: PVEM-L | BI8: SOMOS-L | BJ8: MORENA-L | BK8: PRI-L | BL8: PT-L | BM8: MORENA-L | BN8: PRI-L | BO8: MORENA-L | BP8: PRD-L | BQ8: MORENA-L | BR8: PVEM-L | BS8: PRI-L | BT8: MORENA-L | BU8: PAN-L | BV8: MORENA-L | BW8: MC-L | BX8: MORENA-L | BY8: PRI-L | BZ8: MC-L | CA8: MORENA-L | CB8: PRD-L | CC8: MORENA-L | CD8: PRI-L | CE8: MORENA-L | CF8: PVEM-L | CG8: PRD-L | CH8: PT-L | CI8: PAN-L | CJ8: PAZ-L | CK8: MC-L | CL8: PVEM-L | CM8: SOMOS-L
A9: 3 | B9: SOMOS-L | C9: MORENA-L | D9: PRI-L | E9: PT-L | F9: MORENA-L | G9: PRI-L | H9: MORENA-L | I9: PRD-L | J9: MORENA-L | K9: PVEM-L | L9: PRI-L | M9: MORENA-L | N9: PAN-L | O9: MORENA-L | P9: MC-L | Q9: MORENA-L | R9: PRI-L | S9: PT-L | T9: MORENA-L | U9: PRD-L | V9: MORENA-L | W9: PRI-L | X9: MORENA-L | Y9: PVEM-L | Z9: PRD-L | AA9: PT-L | AB9: MC-L | AC9: PAZ-L | AD9: MC-L | AE9: PVEM-L | AF9: SOMOS-L | AG9: MORENA-L | AH9: PRI-L | AI9: PT-L | AJ9: MORENA-L | AK9: PRI-L | AL9: MORENA-L | AM9: PRD-L | AN9: MORENA-L | AO9: PVEM-L | AP9: PRI-L | AQ9: MORENA-L | AR9: PAN-L | AS9: MORENA-L | AT9: MC-L | AU9: MORENA-L | AV9: PRI-L | AW9: MC-L | AX9: MORENA-L | AY9: PRD-L | AZ9: MORENA-L | BA9: PRI-L | BB9: MORENA-L | BC9: PVEM-L | BD9: PRD-L | BE9: PT-L | BF9: PAN-L | BG9: PAZ-L | BH9: MC-L | BI9: PVEM-L | BJ9: SOMOS-L | BK9: MORENA-L | BL9: PRI-L | BM9: PT-L | BN9: MORENA-L | BO9: PRI-L | BP9: MORENA-L | BQ9: PRD-L | BR9: MORENA-L | BS9: PVEM-L | BT9: MC-L | BU9: MORENA-L | BV9: PAN-L | BW9: MORENA-L | BX9: MC-L | BY9: MORENA-L | BZ9: PRI-L | CA9: MC-L | CB9: MORENA-L | CC9: PRD-L | CD9: MORENA-L | CE9: PRI-L | CF9: MORENA-L | CG9: PVEM-L | CH9: PRD-L | CI9: PT-L | CJ9: PAN-L | CK9: PAZ-L | CL9: MC-L | CM9: PVEM-L
A10: 4 | B10: PVEM-L | C10: SOMOS-L | D10: MORENA-L | E10: PRI-L | F10: PT-L | G10: MORENA-L | H10: PRI-L | I10: MORENA-L | J10: PRD-L | K10: MORENA-L | L10: PVEM-L | M10: PRI-L | N10: MORENA-L | O10: PAN-L | P10: MORENA-L | Q10: MC-L | R10: MORENA-L | S10: PRI-L | T10: PT-L | U10: MORENA-L | V10: PRD-L | W10: MORENA-L | X10: PRI-L | Y10: MORENA-L | Z10: PVEM-L | AA10: PRD-L | AB10: PT-L | AC10: PAN-L | AD10: PAZ-L | AE10: MC-L | AF10: PVEM-L | AG10: SOMOS-L | AH10: MORENA-L | AI10: PRI-L | AJ10: PT-L | AK10: MORENA-L | AL10: PRI-L | AM10: MORENA-L | AN10: PRD-L | AO10: MORENA-L | AP10: PVEM-L | AQ10: MC-L | AR10: MORENA-L | AS10: PAN-L | AT10: MORENA-L | AU10: MC-L | AV10: MORENA-L | AW10: PRI-L | AX10: MC-L | AY10: MORENA-L | AZ10: PRD-L | BA10: MORENA-L | BB10: PRI-L | BC10: MORENA-L | BD10: PVEM-L | BE10: PRD-L | BF10: PT-L | BG10: PAN-L | BH10: PAZ-L | BI10: MC-L | BJ10: PVEM-L | BK10: SOMOS-L | BL10: MORENA-L | BM10: PRI-L | BN10: PT-L | BO10: MORENA-L | BP10: PRI-L | BQ10: MORENA-L | BR10: PRD-L | BS10: MORENA-L | BT10: PVEM-L | BU10: PRI-L | BV10: MORENA-L | BW10: PAN-L | BX10: MORENA-L | BY10: MC-L | BZ10: MORENA-L | CA10: PRI-L | CB10: PT-L | CC10: MORENA-L | CD10: PRD-L | CE10: MORENA-L | CF10: PRI-L | CG10: MORENA-L | CH10: PVEM-L | CI10: PRD-L | CJ10: PT-L | CK10: PAN-L | CL10: PAZ-L | CM10: MC-L
A11: 5 | B11: MC-L | C11: PVEM-L | D11: SOMOS-L | E11: MORENA-L | F11: PRI-L | G11: PT-L | H11: MORENA-L | I11: PRI-L | J11: MORENA-L | K11: PRD-L | L11: MORENA-L | M11: PVEM-L | N11: PAN-L | O11: MORENA-L | P11: PAN-L | Q11: MORENA-L | R11: MC-L | S11: MORENA-L | T11: PRI-L | U11: MC-L | V11: MORENA-L | W11: PRD-L | X11: MORENA-L | Y11: PRI-L | Z11: MORENA-L | AA11: PVEM-L | AB11: PRD-L | AC11: PT-L | AD11: PAN-L | AE11: PAZ-L | AF11: MC-L | AG11: PVEM-L | AH11: SOMOS-L | AI11: MORENA-L | AJ11: PRI-L | AK11: PT-L | AL11: MORENA-L | AM11: PRI-L | AN11: MORENA-L | AO11: PRD-L | AP11: MORENA-L | AQ11: PVEM-L | AR11: PRI-L | AS11: MORENA-L | AT11: PAN-L | AU11: MORENA-L | AV11: MC-L | AW11: MORENA-L | AX11: PRI-L | AY11: PT-L | AZ11: MORENA-L | BA11: PVEM-L | BB11: MORENA-L | BC11: PRI-L | BD11: MORENA-L | BE11: PVEM-L | BF11: PRD-L | BG11: PT-L | BH11: PAN-L | BI11: PAZ-L | BJ11: MC-L | BK11: PVEM-L | BL11: SOMOS-L | BM11: MORENA-L | BN11: PRI-L | BO11: PT-L | BP11: MORENA-L | BQ11: PRI-L | BR11: MORENA-L | BS11: PRD-L | BT11: MORENA-L | BU11: PVEM-L | BV11: PRI-L | BW11: MORENA-L | BX11: PAN-L | BY11: MORENA-L | BZ11: MC-L | CA11: MORENA-L | CB11: PRI-L | CC11: PT-L | CD11: MORENA-L | CE11: PRD-L | CF11: MORENA-L | CG11: PRI-L | CH11: MORENA-L | CI11: PVEM-L | CJ11: PRD-L | CK11: PT-L | CL11: PAN-L | CM11: PAZ-L
A12: 6 | B12: PAZ-L | C12: MC-L | D12: PVEM-L | E12: SOMOS-L | F12: MORENA-L | G12: PRI-L | H12: PT-L | I12: MORENA-L | J12: PRI-L | K12: MORENA-L | L12: PRD-L | M12: MORENA-L | N12: PVEM-L | O12: PRI-L | P12: MORENA-L | Q12: PAN-L | R12: MORENA-L | S12: MC-L | T12: MORENA-L | U12: PRI-L | V12: PT-L | W12: MORENA-L | X12: PRD-L | Y12: MORENA-L | Z12: PRI-L | AA12: MORENA-L | AB12: PVEM-L | AC12: PRD-L | AD12: PT-L | AE12: PAN-L | AF12: PAZ-L | AG12: MC-L | AH12: PVEM-L | AI12: SOMOS-L | AJ12: MORENA-L | AK12: PRI-L | AL12: PT-L | AM12: MORENA-L | AN12: PRI-L | AO12: MORENA-L | AP12: PRD-L | AQ12: MORENA-L | AR12: PVEM-L | AS12: PRI-L | AT12: MORENA-L | AU12: PAN-L | AV12: MORENA-L | AW12: MC-L | AX12: MORENA-L | AY12: PRI-L | AZ12: MC-L | BA12: MORENA-L | BB12: PRD-L | BC12: MORENA-L | BD12: PRI-L | BE12: MORENA-L | BF12: PVEM-L | BG12: PRD-L | BH12: PT-L | BI12: PAN-L | BJ12: PAZ-L | BK12: MC-L | BL12: PVEM-L | BM12: SOMOS-L | BN12: MORENA-L | BO12: PRI-L | BP12: PT-L | BQ12: MORENA-L | BR12: PRI-L | BS12: MORENA-L | BT12: PRD-L | BU12: MORENA-L | BV12: PVEM-L | BW12: MC-L | BX12: MORENA-L | BY12: PAN-L | BZ12: MORENA-L | CA12: MC-L | CB12: MORENA-L | CC12: PRI-L | CD12: PT-L | CE12: MORENA-L | CF12: PRD-L | CG12: MORENA-L | CH12: PRI-L | CI12: MORENA-L | CJ12: PVEM-L | CK12: PRD-L | CL12: PT-L | CM12: PAN-L
A13: 7 | B13: PAN-L | C13: PAZ-L | D13: MC-L | E13: PVEM-L | F13: SOMOS-L | G13: MORENA-L | H13: PRI-L | I13: PT-L | J13: MORENA-L | K13: PRI-L | L13: MORENA-L | M13: PRD-L | N13: MORENA-L | O13: PVEM-L | P13: PRI-L | Q13: MORENA-L | R13: PAN-L | S13: MORENA-L | T13: MC-L | U13: MORENA-L | V13: PRI-L | W13: MC-L | X13: MORENA-L | Y13: PRD-L | Z13: MORENA-L | AA13: PRI-L | AB13: MORENA-L | AC13: PVEM-L | AD13: PRD-L | AE13: PT-L | AF13: PAN-L | AG13: PAZ-L | AH13: MC-L | AI13: PVEM-L | AJ13: SOMOS-L | AK13: MORENA-L | AL13: PRI-L | AM13: PT-L | AN13: MORENA-L | AO13: PRI-L | AP13: MORENA-L | AQ13: PRD-L | AR13: MORENA-L | AS13: PVEM-L | AT13: MC-L | AU13: MORENA-L | AV13: PAN-L | AW13: MORENA-L | AX13: MC-L | AY13: MORENA-L | AZ13: PRI-L | BA13: PT-L | BB13: MORENA-L | BC13: PRD-L | BD13: MORENA-L | BE13: PRI-L | BF13: MORENA-L | BG13: PVEM-L | BH13: PRD-L | BI13: PT-L | BJ13: PAN-L | BK13: PAZ-L | BL13: MC-L | BM13: PVEM-L | BN13: SOMOS-L | BO13: MORENA-L | BP13: PRI-L | BQ13: PT-L | BR13: MORENA-L | BS13: PRI-L | BT13: MORENA-L | BU13: PRD-L | BV13: MORENA-L | BW13: PVEM-L | BX13: PRI-L | BY13: MORENA-L | BZ13: PAN-L | CA13: MORENA-L | CB13: MC-L | CC13: MORENA-L | CD13: PRI-L | CE13: PT-L | CF13: MORENA-L | CG13: PRD-L | CH13: MORENA-L | CI13: PRI-L | CJ13: MORENA-L | CK13: PVEM-L | CL13: PRD-L | CM13: PT-L
A14: 8 | B14: PT-L | C14: PAN-L | D14: PAZ-L | E14: MC-L | F14: PVEM-L | G14: SOMOS-L | H14: MORENA-L | I14: PRI-L | J14: PT-L | K14: MORENA-L | L14: PRI-L | M14: MORENA-L | N14: PRD-L | O14: MORENA-L | P14: PVEM-L | Q14: MC-L | R14: MORENA-L | S14: PAN-L | T14: MORENA-L | U14: MC-L | V14: MORENA-L | W14: PRI-L | X14: MC-L | Y14: MORENA-L | Z14: PRD-L | AA14: MORENA-L | AB14: PRI-L | AC14: MORENA-L | AD14: PVEM-L | AE14: PRD-L | AF14: PT-L | AG14: PAN-L | AH14: PAZ-L | AI14: MC-L | AJ14: PVEM-L | AK14: SOMOS-L | AL14: MORENA-L | AM14: PRI-L | AN14: PT-L | AO14: MORENA-L | AP14: PRI-L | AQ14: MORENA-L | AR14: PRD-L | AS14: MORENA-L | AT14: PVEM-L | AU14: PRI-L | AV14: MORENA-L | AW14: PAN-L | AX14: MORENA-L | AY14: MC-L | AZ14: MORENA-L | BA14: PRI-L | BB14: MC-L | BC14: MORENA-L | BD14: PRD-L | BE14: MORENA-L | BF14: PRI-L | BG14: MORENA-L | BH14: PVEM-L | BI14: PRD-L | BJ14: PT-L | BK14: PAN-L | BL14: PAZ-L | BM14: MC-L | BN14: PVEM-L | BO14: SOMOS-L | BP14: MORENA-L | BQ14: PRI-L | BR14: PT-L | BS14: MORENA-L | BT14: PRI-L | BU14: MORENA-L | BV14: PRD-L | BW14: MORENA-L | BX14: PVEM-L | BY14: PRI-L | BZ14: MORENA-L | CA14: PAN-L | CB14: MORENA-L | CC14: MC-L | CD14: MORENA-L | CE14: PRI-L | CF14: PT-L | CG14: MORENA-L | CH14: PRD-L | CI14: MORENA-L | CJ14: PRI-L | CK14: MORENA-L | CL14: PVEM-L | CM14: PRD-L
A15: 9 | B15: PRD-L | C15: PT-L | D15: PAN-L | E15: PAZ-L | F15: MC-L | G15: PVEM-L | H15: SOMOS-L | I15: MORENA-L | J15: PRI-L | K15: PT-L | L15: MORENA-L | M15: PRI-L | N15: MORENA-L | O15: PRD-L | P15: MORENA-L | Q15: PVEM-L | R15: PRI-L | S15: MORENA-L | T15: PAN-L | U15: MORENA-L | V15: MC-L | W15: MORENA-L | X15: PRI-L | Y15: PT-L | Z15: MORENA-L | AA15: PRD-L | AB15: MORENA-L | AC15: PRI-L | AD15: MORENA-L | AE15: PVEM-L | AF15: PRD-L | AG15: PT-L | AH15: MC-L | AI15: PAZ-L | AJ15: MC-L | AK15: PVEM-L | AL15: SOMOS-L | AM15: MORENA-L | AN15: PRI-L | AO15: PT-L | AP15: MORENA-L | AQ15: PRI-L | AR15: MORENA-L | AS15: PRD-L | AT15: MORENA-L | AU15: PVEM-L | AV15: PRI-L | AW15: MORENA-L | AX15: PAN-L | AY15: MORENA-L | AZ15: MC-L | BA15: MORENA-L | BB15: PRI-L | BC15: MC-L | BD15: MORENA-L | BE15: PRD-L | BF15: MORENA-L | BG15: PRI-L | BH15: MORENA-L | BI15: PVEM-L | BJ15: PRD-L | BK15: PT-L | BL15: MC-L | BM15: PAZ-L | BN15: MC-L | BO15: PVEM-L | BP15: SOMOS-L | BQ15: MORENA-L | BR15: PRI-L | BS15: PT-L | BT15: MORENA-L | BU15: PRI-L | BV15: MORENA-L | BW15: PRD-L | BX15: MORENA-L | BY15: PVEM-L | BZ15: MC-L | CA15: MORENA-L | CB15: PAN-L | CC15: MORENA-L | CD15: MC-L | CE15: MORENA-L | CF15: PRI-L | CG15: PT-L | CH15: MORENA-L | CI15: PRD-L | CJ15: MORENA-L | CK15: PRI-L | CL15: MORENA-L | CM15: PVEM-L
A16: 10 | B16: PVEM-L | C16: PRD-L | D16: PT-L | E16: PAN-L | F16: PAZ-L | G16: MC-L | H16: PVEM-L | I16: SOMOS-L | J16: MORENA-L | K16: PRI-L | L16: PT-L | M16: MORENA-L | N16: PRI-L | O16: MORENA-L | P16: PRD-L | Q16: MORENA-L | R16: PVEM-L | S16: PRI-L | T16: MORENA-L | U16: PAN-L | V16: MORENA-L | W16: MC-L | X16: MORENA-L | Y16: PRI-L | Z16: MC-L | AA16: MORENA-L | AB16: PRD-L | AC16: MORENA-L | AD16: PRI-L | AE16: MORENA-L | AF16: PVEM-L | AG16: PRD-L | AH16: PT-L | AI16: PAN-L | AJ16: PAZ-L | AK16: MC-L | AL16: PVEM-L | AM16: SOMOS-L | AN16: MORENA-L | AO16: PRI-L | AP16: PT-L | AQ16: MORENA-L | AR16: PRI-L | AS16: MORENA-L | AT16: PRD-L | AU16: MORENA-L | AV16: PVEM-L | AW16: MC-L | AX16: MORENA-L | AY16: PAN-L | AZ16: MORENA-L | BA16: MC-L | BB16: MORENA-L | BC16: PRI-L | BD16: PT-L | BE16: MORENA-L | BF16: PRD-L | BG16: MORENA-L | BH16: PRI-L | BI16: MORENA-L | BJ16: PVEM-L | BK16: PRD-L | BL16: PT-L | BM16: PAN-L | BN16: PAZ-L | BO16: MC-L | BP16: PVEM-L | BQ16: SOMOS-L | BR16: MORENA-L | BS16: PRI-L | BT16: PT-L | BU16: MORENA-L | BV16: PRI-L | BW16: MORENA-L | BX16: PRD-L | BY16: MORENA-L | BZ16: PVEM-L | CA16: PRI-L | CB16: MORENA-L | CC16: PAN-L | CD16: MORENA-L | CE16: MC-L | CF16: MORENA-L | CG16: PRI-L | CH16: PT-L | CI16: MORENA-L | CJ16: PRD-L | CK16: MORENA-L | CL16: PRI-L | CM16: MORENA-L
A17: 11 | B17: MORENA-L | C17: PVEM-L | D17: PRD-L | E17: PT-L | F17: PAN-L | G17: PAZ-L | H17: MC-L | I17: PVEM-L | J17: SOMOS-L | K17: MORENA-L | L17: PRI-L | M17: PT-L | N17: MORENA-L | O17: PRI-L | P17: MORENA-L | Q17: PRD-L | R17: MORENA-L | S17: PVEM-L | T17: MC-L | U17: MORENA-L | V17: PAN-L | W17: MORENA-L | X17: MC-L | Y17: MORENA-L | Z17: PRI-L | AA17: PT-L | AB17: MORENA-L | AC17: PRD-L | AD17: MORENA-L | AE17: PRI-L | AF17: MORENA-L | AG17: PVEM-L | AH17: PRD-L | AI17: PT-L | AJ17: PAN-L | AK17: PAZ-L | AL17: MC-L | AM17: PVEM-L | AN17: SOMOS-L | AO17: MORENA-L | AP17: PRI-L | AQ17: PT-L | AR17: MORENA-L | AS17: PRI-L | AT17: MORENA-L | AU17: PRD-L | AV17: MORENA-L | AW17: PVEM-L | AX17: PRI-L | AY17: MORENA-L | AZ17: PAN-L | BA17: MORENA-L | BB17: MC-L | BC17: MORENA-L | BD17: PRI-L | BE17: MC-L | BF17: MORENA-L | BG17: PRD-L | BH17: MORENA-L | BI17: PRI-L | BJ17: MORENA-L | BK17: PVEM-L | BL17: PRD-L | BM17: PT-L | BN17: PAN-L | BO17: PAZ-L | BP17: MC-L | BQ17: PVEM-L | BR17: SOMOS-L | BS17: MORENA-L | BT17: PRI-L | BU17: PT-L | BV17: MORENA-L | BW17: PRI-L | BX17: MORENA-L | BY17: PRD-L | BZ17: MORENA-L | CA17: PVEM-L | CB17: PRI-L | CC17: MORENA-L | CD17: PAN-L | CE17: MORENA-L | CF17: MC-L | CG17: MORENA-L | CH17: PRI-L | CI17: PT-L | CJ17: MORENA-L | CK17: PRD-L | CL17: MORENA-L | CM17: PRI-L
A18: 12 | B18: PRI-L | C18: MORENA-L | D18: PVEM-L | E18: PRD-L | F18: PT-L | G18: PAN-L | H18: PAZ-L | I18: MC-L | J18: PVEM-L | K18: SOMOS-L | L18: MORENA-L | M18: PRI-L | N18: PT-L | O18: MORENA-L | P18: PRI-L | Q18: MORENA-L | R18: PRD-L | S18: MORENA-L | T18: PVEM-L | U18: PRI-L | V18: MORENA-L | W18: PAN-L | X18: MORENA-L | Y18: MC-L | Z18: MORENA-L | AA18: PRI-L | AB18: MC-L | AC18: MORENA-L | AD18: PVEM-L | AE18: MORENA-L | AF18: PRI-L | AG18: MORENA-L | AH18: PVEM-L | AI18: PRD-L | AJ18: PT-L | AK18: PAN-L | AL18: PAZ-L | AM18: MC-L | AN18: PVEM-L | AO18: SOMOS-L | AP18: MORENA-L | AQ18: PRI-L | AR18: PT-L | AS18: MORENA-L | AT18: PRI-L | AU18: MORENA-L | AV18: PRD-L | AW18: MORENA-L | AX18: PVEM-L | AY18: PRI-L | AZ18: MORENA-L | BA18: PAN-L | BB18: MORENA-L | BC18: MC-L | BD18: MORENA-L | BE18: PRI-L | BF18: MC-L | BG18: MORENA-L | BH18: PRD-L | BI18: MORENA-L | BJ18: PRI-L | BK18: MORENA-L | BL18: PVEM-L | BM18: PRD-L | BN18: PT-L | BO18: PAN-L | BP18: PAZ-L | BQ18: MC-L | BR18: PVEM-L | BS18: SOMOS-L | BT18: MORENA-L | BU18: PRI-L | BV18: PT-L | BW18: MORENA-L | BX18: PRI-L | BY18: MORENA-L | BZ18: PRD-L | CA18: MORENA-L | CB18: PVEM-L | CC18: PRI-L | CD18: MORENA-L | CE18: PAN-L | CF18: MORENA-L | CG18: MC-L | CH18: MORENA-L | CI18: PRI-L | CJ18: PT-L | CK18: MORENA-L | CL18: PRD-L | CM18: MORENA-L
... A36: 30 | B36: PT-L | C36: MORENA-L | D36: PRI-L | E36: MORENA-L | F36: PRD-L | G36: MORENA-L | H36: PVEM-L | I36: PRI-L | J36: MORENA-L | K36: PAN-L | L36: MORENA-L | M36: MC-L | N36: MORENA-L | O36: PRI-L | P36: INE | Q36: MORENA-L | R36: PRD-L | S36: MORENA-L | T36: PRI-L | U36: MORENA-L | V36: PVEM-L | W36: PRD-L | X36: PT-L | Y36: PAN-L | Z36: PAZ-L | AA36: MC-L | AB36: PVEM-L | AC36: SOMOS-L | AD36: MORENA-L | AE36: PRI-L | AF36: PT-L | AG36: MORENA-L | AH36: PRI-L | AI36: MORENA-L | AJ36: PRD-L | AK36: MORENA-L | AL36: PVEM-L | AM36: PRI-L | AN36: MORENA-L | AO36: PAN-L | AP36: MORENA-L | AQ36: MC-L | AR36: MORENA-L | AS36: PRI-L | AT36: PT-L | AU36: MORENA-L | AV36: PRD-L | AW36: MORENA-L | AX36: PRI-L | AY36: MORENA-L | AZ36: PVEM-L | BA36: PRD-L | BB36: PT-L | BC36: PAN-L | BD36: PAZ-L | BE36: MC-L | BF36: PVEM-L | BG36: SOMOS-L | BH36: MORENA-L | BI36: PRI-L | BJ36: PT-L | BK36: MORENA-L | BL36: PRI-L | BM36: MORENA-L | BN36: PRD-L | BO36: MORENA-L | BP36: PVEM-L | BQ36: MC-L | BR36: MORENA-L | BS36: PAN-L | BT36: MORENA-L | BU36: MC-L | BV36: MORENA-L | BW36: PRI-L | BX36: MC-L | BY36: MORENA-L | BZ36: PRD-L | CA36: MORENA-L | CB36: PRI-L | CC36: MORENA-L | CD36: PVEM-L | CE36: PRD-L | CF36: PT-L | CG36: PAN-L | CH36: PAZ-L | CI36: MC-L | CJ36: PVEM-L | CK36: SOMOS-L | CL36: PVEM-L | CM36: PRI-L
A39: Partido | B39: Promocionales | C39: Conteo | D39: Diferencia | G39: SORTEO
A40: PAN-L | B40: ='Cálculo 70-30 (15 min)'!H4 -> 171 | C40: =COUNTIF($B$7:$CM$36,A40) -> 171 | D40: =C40-B40 -> 0 | F40: 1 | G40: PRI-L
A41: PRI-L | B41: ='Cálculo 70-30 (15 min)'!H5 -> 429 | C41: =COUNTIF($B$7:$CM$36,A41) -> 429 | D41: =C41-B41 -> 0 | F41: 2 | G41: MORENA-L
A42: PT-L | B42: ='Cálculo 70-30 (15 min)'!H6 -> 228 | C42: =COUNTIF($B$7:$CM$36,A42) -> 228 | D42: =C42-B42 -> 0 | F42: 3 | G42: SOMOS-L
A43: PVEM-L | B43: ='Cálculo 70-30 (15 min)'!H7 -> 277 | C43: =COUNTIF($B$7:$CM$36,A43) -> 277 | D43: =C43-B43 -> 0 | F43: 4 | G43: PVEM-L
A44: MC-L | B44: ='Cálculo 70-30 (15 min)'!H8 -> 249 | C44: =COUNTIF($B$7:$CM$36,A44) -> 249 | D44: =C44-B44 -> 0 | F44: 5 | G44: MC-L
A45: MORENA-L | B45: ='Cálculo 70-30 (15 min)'!H9 -> 898 | C45: =COUNTIF($B$7:$CM$36,A45) -> 898 | D45: =C45-B45 -> 0 | F45: 6 | G45: PAZ-L
A46: PRD-L | B46: ='Cálculo 70-30 (15 min)'!H10 -> 263 | C46: =COUNTIF($B$7:$CM$36,A46) -> 263 | D46: =C46-B46 -> 0 | F46: 7 | G46: PAN-L
A47: PAZ-L | B47: ='Cálculo 70-30 (15 min)'!H11 -> 90 | C47: =COUNTIF($B$7:$CM$36,A47) -> 90 | D47: =C47-B47 -> 0 | F47: 8 | G47: PT-L
A48: SOMOS-L | B48: ='Cálculo 70-30 (15 min)'!H12 -> 90 | C48: =COUNTIF($B$7:$CM$36,A48) -> 90 | D48: =C48-B48 -> 0 | F48: 9 | G48: PRD-L
A49: C.I.-L | B49: ='Cálculo 70-30 (15 min)'!H13 -> 0 | C49: =COUNTIF($B$7:$CM$36,A49) -> 0 | D49: =C49-B49 -> 0 | F49: 10 | G49: C.I.-L
A50: INE | B50: ='Cálculo 70-30 (15 min)'!C17 -> 5 | C50: =COUNTIF($B$7:$CM$36,A50) -> 5 | D50: =C50-B50 -> 0
A51: TOTAL | B51: =SUM(B40:B50) -> 2700 | C51: =SUM(C40:C50) -> 2700 | D51: =C51-B51 -> 0
